Workbook

Sheet Information Sheet
A1: Information and Instructions
A2: Name your inventory as LSLI_NYPWSID#. For example: LSLI_NY1234567
A3: Lead Service Line Inventory Template Workbook
A4: • The Service Line Inventory Template is to be filled out with one row for each service line.
A5: • Columns with headings in blue are required or mandatory entries to be considered complete.
A6: • Headers with an ⓘ symbol will display additional information if clicked on.
A7: • The options for all drop down response columns are listed below.
A8: Inventory Summary Workbook
A9: • Do not fill out Section III, "Summary of Inventory." The section will be automatically filled based on information provided in the LSL Template workbook.
A11: Tabs | B11: Description
A12: Service Line Inventory Template | B12: To be filled out with service line information
A13: Inventory Summary Form | B13: Summary of data from Service Line Inventory Worksheet
A15: Public-side Service Line Information Keys
A16: Lead Gooseneck, Pigtail or Connector Currently Present? | B16: Current Public Side SL Material | C16: Was Public SL Material Ever Previously Lead? | D16: Public SL Material Verification Method | E16: Public SL Size
A17: Yes | B17: Lead including lead-lined galvanized | C17: Yes | D17: Records | E17: Upto 1"
A18: No | B18: Copper | C18: No | D18: Field Inspection | E18: 1" < SL ≤ 1.5"
A19: Unknown | B19: Galvanized | C19: Unknown | D19: Excavation | E19: 1.5" < SL ≤ 2"
B20: Plastic | D20: Sequential Sampling | E20: larger than 2"
B21: Known Other | D21: Statistical Analysis/Predictive Model | E21: unknown
B22: Unknown but could be lead | D22: Other
B23: Unknown but unlikely lead | D23: Not Verified
B24: Unknown
A26: Customer Side Service Line Information Keys
A27: Customer SL Material | B27: Customer SL Material Verification Method | C27: Lead Solder Present? | D27: Building Type | E27: POU or POE Treatment Present? | F27: Customer SL Size
A28: Lead including lead-lined galvanized | B28: Records | C28: Yes | D28: Single Family | E28: Yes | F28: Upto 1"
A29: Copper | B29: Field Inspection | C29: No | D29: Multi Family | E29: No | F29: 1" < SL ≤ 1.5"
A30: Galvanized | B30: Customer Identification with Photo or Other Verification | C30: Unknown | D30: School or Childcare | E30: Unknown | F30: 1.5" < SL ≤ 2"
A31: Plastic | B31: Excavation | D31: Business | F31: larger than 2"
A32: Known Other | B32: Sequential Sampling | D32: Other including Multiuse | F32: unknown
A33: Unknown but could be lead | B33: Statistical Analysis/Predictive Model
A34: Unknown but unlikely lead | B34: Other
A35: Unknown | B35: Not Verified
B37: Entire Service Line Inventory Categories
B38: SL Category
B39: Lead
B40: GSLRR
B41: Non-Lead
B42: Unknown - Lead Status Unknown

Sheet Service Line Inventory Template
A1: Street Address | B1: Town | C1: Zip Code | D1: Lead Gooseneck, Pigtail or Connector Currently Present? | E1: Current Public Side SL Material ⓘ | F1: Was Public SL Material Ever Previously Lead? | G1: Public SL Material Verification Method ⓘ | H1: Public SL Installation or Replacement Date | I1: Public SL Size | J1: Customer SL Material ⓘ | K1: Customer SL Material Verification Method ⓘ | L1: Lead Solder Present? | M1: Building Type | N1: POU or POE Treatment Present? ⓘ | O1: Customer SL Installation or Replacement Date | P1: Customer SL Size | Q1: SL Category ⓘ | R1: Note
A2: 4836 st rt 19 south | B2: belmont | C2: 14813 | E2: Copper | F2: Unknown | G2: Records | J2: Copper | K2: Records | Q2: =IF(OR(Table1[[#This Row],[Current Public Side SL Material ⓘ]]="",Table1[[#This Row],[Was Public SL Material Ever Previously Lead?]]="",Table1[[#This Row],[Customer SL Material ⓘ]]=""),"",IF(OR(LEFT(Table1[[#This Row],[Current Public Side SL Material ⓘ]],4)="Lead",LEFT(Table1[[#This Row],[Customer SL Material ⓘ]],4)="Lead"),"Lead",IF(LEFT(Table1[[#This Row],[Current Public Side SL Material ⓘ]],1)="U",(IF(LEFT(Table1[[#This Row],[Customer SL Material ⓘ]],1)="G","GSLRR","Unknown")),(IF(LEFT(Table1[[#This Row],[Customer SL Material ⓘ]],1)="G",(IF(Table1[[#This Row],[Was Public SL Material Ever Previously Lead?]]="No","Non-Lead","GSLRR")),IF(LEFT(Table1[[#This Row],[Customer SL Material ⓘ]],1)="U","Unknown","Non-Lead")))))) -> Non-Lead
A3: 4923 st rt 19 south | B3: belmont | C3: 14813 | E3: Copper | F3: Unknown | G3: Records | J3: Copper | K3: Records | Q3: =IF(OR(Table1[[#This Row],[Current Public Side SL Material ⓘ]]="",Table1[[#This Row],[Was Public SL Material Ever Previously Lead?]]="",Table1[[#This Row],[Customer SL Material ⓘ]]=""),"",IF(OR(LEFT(Table1[[#This Row],[Current Public Side SL Material ⓘ]],4)="Lead",LEFT(Table1[[#This Row],[Customer SL Material ⓘ]],4)="Lead"),"Lead",IF(LEFT(Table1[[#This Row],[Current Public Side SL Material ⓘ]],1)="U",(IF(LEFT(Table1[[#This Row],[Customer SL Material ⓘ]],1)="G","GSLRR","Unknown")),(IF(LEFT(Table1[[#This Row],[Customer SL Material ⓘ]],1)="G",(IF(Table1[[#This Row],[Was Public SL Material Ever Previously Lead?]]="No","Non-Lead","GSLRR")),IF(LEFT(Table1[[#This Row],[Customer SL Material ⓘ]],1)="U","Unknown","Non-Lead")))))) -> Non-Lead
A4: 4836 st rt 19 south | B4: belmont | C4: 14813 | E4: Copper | F4: Unknown | G4: Records | J4: Copper | K4: Records | Q4: =IF(OR(Table1[[#This Row],[Current Public Side SL Material ⓘ]]="",Table1[[#This Row],[Was Public SL Material Ever Previously Lead?]]="",Table1[[#This Row],[Customer SL Material ⓘ]]=""),"",IF(OR(LEFT(Table1[[#This Row],[Current Public Side SL Material ⓘ]],4)="Lead",LEFT(Table1[[#This Row],[Customer SL Material ⓘ]],4)="Lead"),"Lead",IF(LEFT(Table1[[#This Row],[Current Public Side SL Material ⓘ]],1)="U",(IF(LEFT(Table1[[#This Row],[Customer SL Material ⓘ]],1)="G","GSLRR","Unknown")),(IF(LEFT(Table1[[#This Row],[Customer SL Material ⓘ]],1)="G",(IF(Table1[[#This Row],[Was Public SL Material Ever Previously Lead?]]="No","Non-Lead","GSLRR")),IF(LEFT(Table1[[#This Row],[Customer SL Material ⓘ]],1)="U","Unknown","Non-Lead")))))) -> Non-Lead
A5: 4953 st rt 19 south | B5: belmont | C5: 14813 | E5: Copper | F5: Unknown | G5: Records | J5: Copper | K5: Records | Q5: =IF(OR(Table1[[#This Row],[Current Public Side SL Material ⓘ]]="",Table1[[#This Row],[Was Public SL Material Ever Previously Lead?]]="",Table1[[#This Row],[Customer SL Material ⓘ]]=""),"",IF(OR(LEFT(Table1[[#This Row],[Current Public Side SL Material ⓘ]],4)="Lead",LEFT(Table1[[#This Row],[Customer SL Material ⓘ]],4)="Lead"),"Lead",IF(LEFT(Table1[[#This Row],[Current Public Side SL Material ⓘ]],1)="U",(IF(LEFT(Table1[[#This Row],[Customer SL Material ⓘ]],1)="G","GSLRR","Unknown")),(IF(LEFT(Table1[[#This Row],[Customer SL Material ⓘ]],1)="G",(IF(Table1[[#This Row],[Was Public SL Material Ever Previously Lead?]]="No","Non-Lead","GSLRR")),IF(LEFT(Table1[[#This Row],[Customer SL Material ⓘ]],1)="U","Unknown","Non-Lead")))))) -> Non-Lead
A6: 4926 st rt 29 south | B6: belmont | C6: 14813 | E6: Copper | F6: Unknown | G6: Records | J6: Copper | K6: Records | Q6: =IF(OR(Table1[[#This Row],[Current Public Side SL Material ⓘ]]="",Table1[[#This Row],[Was Public SL Material Ever Previously Lead?]]="",Table1[[#This Row],[Customer SL Material ⓘ]]=""),"",IF(OR(LEFT(Table1[[#This Row],[Current Public Side SL Material ⓘ]],4)="Lead",LEFT(Table1[[#This Row],[Customer SL Material ⓘ]],4)="Lead"),"Lead",IF(LEFT(Table1[[#This Row],[Current Public Side SL Material ⓘ]],1)="U",(IF(LEFT(Table1[[#This Row],[Customer SL Material ⓘ]],1)="G","GSLRR","Unknown")),(IF(LEFT(Table1[[#This Row],[Customer SL Material ⓘ]],1)="G",(IF(Table1[[#This Row],[Was Public SL Material Ever Previously Lead?]]="No","Non-Lead","GSLRR")),IF(LEFT(Table1[[#This Row],[Customer SL Material ⓘ]],1)="U","Unknown","Non-Lead")))))) -> Non-Lead
A7: 4944 st rt 19 south | B7: belmont | C7: 14813 | E7: Copper | F7: Unknown | G7: Records | J7: Copper | K7: Records | Q7: =IF(OR(Table1[[#This Row],[Current Public Side SL Material ⓘ]]="",Table1[[#This Row],[Was Public SL Material Ever Previously Lead?]]="",Table1[[#This Row],[Customer SL Material ⓘ]]=""),"",IF(OR(LEFT(Table1[[#This Row],[Current Public Side SL Material ⓘ]],4)="Lead",LEFT(Table1[[#This Row],[Customer SL Material ⓘ]],4)="Lead"),"Lead",IF(LEFT(Table1[[#This Row],[Current Public Side SL Material ⓘ]],1)="U",(IF(LEFT(Table1[[#This Row],[Customer SL Material ⓘ]],1)="G","GSLRR","Unknown")),(IF(LEFT(Table1[[#This Row],[Customer SL Material ⓘ]],1)="G",(IF(Table1[[#This Row],[Was Public SL Material Ever Previously Lead?]]="No","Non-Lead","GSLRR")),IF(LEFT(Table1[[#This Row],[Customer SL Material ⓘ]],1)="U","Unknown","Non-Lead")))))) -> Non-Lead
A8: 4952 st rt 19 south | B8: belmont | C8: 14813 | E8: Copper | F8: Unknown | G8: Records | J8: Copper | K8: Records | Q8: =IF(OR(Table1[[#This Row],[Current Public Side SL Material ⓘ]]="",Table1[[#This Row],[Was Public SL Material Ever Previously Lead?]]="",Table1[[#This Row],[Customer SL Material ⓘ]]=""),"",IF(OR(LEFT(Table1[[#This Row],[Current Public Side SL Material ⓘ]],4)="Lead",LEFT(Table1[[#This Row],[Customer SL Material ⓘ]],4)="Lead"),"Lead",IF(LEFT(Table1[[#This Row],[Current Public Side SL Material ⓘ]],1)="U",(IF(LEFT(Table1[[#This Row],[Customer SL Material ⓘ]],1)="G","GSLRR","Unknown")),(IF(LEFT(Table1[[#This Row],[Customer SL Material ⓘ]],1)="G",(IF(Table1[[#This Row],[Was Public SL Material Ever Previously Lead?]]="No","Non-Lead","GSLRR")),IF(LEFT(Table1[[#This Row],[Customer SL Material ⓘ]],1)="U","Unknown","Non-Lead")))))) -> Non-Lead
A9: 4964 st rt 19 south | B9: belmont | C9: 14813 | E9: Copper | F9: Unknown | G9: Records | J9: Copper | K9: Records | Q9: =IF(OR(Table1[[#This Row],[Current Public Side SL Material ⓘ]]="",Table1[[#This Row],[Was Public SL Material Ever Previously Lead?]]="",Table1[[#This Row],[Customer SL Material ⓘ]]=""),"",IF(OR(LEFT(Table1[[#This Row],[Current Public Side SL Material ⓘ]],4)="Lead",LEFT(Table1[[#This Row],[Customer SL Material ⓘ]],4)="Lead"),"Lead",IF(LEFT(Table1[[#This Row],[Current Public Side SL Material ⓘ]],1)="U",(IF(LEFT(Table1[[#This Row],[Customer SL Material ⓘ]],1)="G","GSLRR","Unknown")),(IF(LEFT(Table1[[#This Row],[Customer SL Material ⓘ]],1)="G",(IF(Table1[[#This Row],[Was Public SL Material Ever Previously Lead?]]="No","Non-Lead","GSLRR")),IF(LEFT(Table1[[#This Row],[Customer SL Material ⓘ]],1)="U","Unknown","Non-Lead")))))) -> Non-Lead
A10: 4967 st rt 19 south | B10: belmont | C10: 14813 | E10: Copper | F10: Unknown | G10: Records | J10: Copper | K10: Records | Q10: =IF(OR(Table1[[#This Row],[Current Public Side SL Material ⓘ]]="",Table1[[#This Row],[Was Public SL Material Ever Previously Lead?]]="",Table1[[#This Row],[Customer SL Material ⓘ]]=""),"",IF(OR(LEFT(Table1[[#This Row],[Current Public Side SL Material ⓘ]],4)="Lead",LEFT(Table1[[#This Row],[Customer SL Material ⓘ]],4)="Lead"),"Lead",IF(LEFT(Table1[[#This Row],[Current Public Side SL Material ⓘ]],1)="U",(IF(LEFT(Table1[[#This Row],[Customer SL Material ⓘ]],1)="G","GSLRR","Unknown")),(IF(LEFT(Table1[[#This Row],[Customer SL Material ⓘ]],1)="G",(IF(Table1[[#This Row],[Was Public SL Material Ever Previously Lead?]]="No","Non-Lead","GSLRR")),IF(LEFT(Table1[[#This Row],[Customer SL Material ⓘ]],1)="U","Unknown","Non-Lead")))))) -> Non-Lead
A11: 4920 st rt 19 south | B11: belmont | C11: 14813 | E11: Copper | F11: Unknown | G11: Records | J11: Copper | K11: Records | Q11: =IF(OR(Table1[[#This Row],[Current Public Side SL Material ⓘ]]="",Table1[[#This Row],[Was Public SL Material Ever Previously Lead?]]="",Table1[[#This Row],[Customer SL Material ⓘ]]=""),"",IF(OR(LEFT(Table1[[#This Row],[Current Public Side SL Material ⓘ]],4)="Lead",LEFT(Table1[[#This Row],[Customer SL Material ⓘ]],4)="Lead"),"Lead",IF(LEFT(Table1[[#This Row],[Current Public Side SL Material ⓘ]],1)="U",(IF(LEFT(Table1[[#This Row],[Customer SL Material ⓘ]],1)="G","GSLRR","Unknown")),(IF(LEFT(Table1[[#This Row],[Customer SL Material ⓘ]],1)="G",(IF(Table1[[#This Row],[Was Public SL Material Ever Previously Lead?]]="No","Non-Lead","GSLRR")),IF(LEFT(Table1[[#This Row],[Customer SL Material ⓘ]],1)="U","Unknown","Non-Lead")))))) -> Non-Lead
A12: 4958 st rt 19 south | B12: belmont | C12: 14813 | E12: Copper | F12: Unknown | G12: Records | J12: Copper | K12: Records | Q12: =IF(OR(Table1[[#This Row],[Current Public Side SL Material ⓘ]]="",Table1[[#This Row],[Was Public SL Material Ever Previously Lead?]]="",Table1[[#This Row],[Customer SL Material ⓘ]]=""),"",IF(OR(LEFT(Table1[[#This Row],[Current Public Side SL Material ⓘ]],4)="Lead",LEFT(Table1[[#This Row],[Customer SL Material ⓘ]],4)="Lead"),"Lead",IF(LEFT(Table1[[#This Row],[Current Public Side SL Material ⓘ]],1)="U",(IF(LEFT(Table1[[#This Row],[Customer SL Material ⓘ]],1)="G","GSLRR","Unknown")),(IF(LEFT(Table1[[#This Row],[Customer SL Material ⓘ]],1)="G",(IF(Table1[[#This Row],[Was Public SL Material Ever Previously Lead?]]="No","Non-Lead","GSLRR")),IF(LEFT(Table1[[#This Row],[Customer SL Material ⓘ]],1)="U","Unknown","Non-Lead")))))) -> Non-Lead
A13: 4968 st rt 19 south | B13: belmont | C13: 14813 | E13: Copper | F13: Unknown | G13: Records | J13: Copper | K13: Records | Q13: =IF(OR(Table1[[#This Row],[Current Public Side SL Material ⓘ]]="",Table1[[#This Row],[Was Public SL Material Ever Previously Lead?]]="",Table1[[#This Row],[Customer SL Material ⓘ]]=""),"",IF(OR(LEFT(Table1[[#This Row],[Current Public Side SL Material ⓘ]],4)="Lead",LEFT(Table1[[#This Row],[Customer SL Material ⓘ]],4)="Lead"),"Lead",IF(LEFT(Table1[[#This Row],[Current Public Side SL Material ⓘ]],1)="U",(IF(LEFT(Table1[[#This Row],[Customer SL Material ⓘ]],1)="G","GSLRR","Unknown")),(IF(LEFT(Table1[[#This Row],[Customer SL Material ⓘ]],1)="G",(IF(Table1[[#This Row],[Was Public SL Material Ever Previously Lead?]]="No","Non-Lead","GSLRR")),IF(LEFT(Table1[[#This Row],[Customer SL Material ⓘ]],1)="U","Unknown","Non-Lead")))))) -> Non-Lead
... A467: 3 south st | B467: belmont | C467: 14813 | E467: Unknown but unlikely lead | F467: Unknown | G467: Not Verified | J467: Unknown but unlikely lead | K467: Not Verified | Q467: =IF(OR(Table1[[#This Row],[Current Public Side SL Material ⓘ]]="",Table1[[#This Row],[Was Public SL Material Ever Previously Lead?]]="",Table1[[#This Row],[Customer SL Material ⓘ]]=""),"",IF(OR(LEFT(Table1[[#This Row],[Current Public Side SL Material ⓘ]],4)="Lead",LEFT(Table1[[#This Row],[Customer SL Material ⓘ]],4)="Lead"),"Lead",IF(LEFT(Table1[[#This Row],[Current Public Side SL Material ⓘ]],1)="U",(IF(LEFT(Table1[[#This Row],[Customer SL Material ⓘ]],1)="G","GSLRR","Unknown")),(IF(LEFT(Table1[[#This Row],[Customer SL Material ⓘ]],1)="G",(IF(Table1[[#This Row],[Was Public SL Material Ever Previously Lead?]]="No","Non-Lead","GSLRR")),IF(LEFT(Table1[[#This Row],[Customer SL Material ⓘ]],1)="U","Unknown","Non-Lead")))))) -> Unknown
B468: belmont | C468: 14813 | Q468: =IF(OR(Table1[[#This Row],[Current Public Side SL Material ⓘ]]="",Table1[[#This Row],[Was Public SL Material Ever Previously Lead?]]="",Table1[[#This Row],[Customer SL Material ⓘ]]=""),"",IF(OR(LEFT(Table1[[#This Row],[Current Public Side SL Material ⓘ]],4)="Lead",LEFT(Table1[[#This Row],[Customer SL Material ⓘ]],4)="Lead"),"Lead",IF(LEFT(Table1[[#This Row],[Current Public Side SL Material ⓘ]],1)="U",(IF(LEFT(Table1[[#This Row],[Customer SL Material ⓘ]],1)="G","GSLRR","Unknown")),(IF(LEFT(Table1[[#This Row],[Customer SL Material ⓘ]],1)="G",(IF(Table1[[#This Row],[Was Public SL Material Ever Previously Lead?]]="No","Non-Lead","GSLRR")),IF(LEFT(Table1[[#This Row],[Customer SL Material ⓘ]],1)="U","Unknown","Non-Lead"))))))
B469: belmont | C469: 14813 | Q469: =IF(OR(Table1[[#This Row],[Current Public Side SL Material ⓘ]]="",Table1[[#This Row],[Was Public SL Material Ever Previously Lead?]]="",Table1[[#This Row],[Customer SL Material ⓘ]]=""),"",IF(OR(LEFT(Table1[[#This Row],[Current Public Side SL Material ⓘ]],4)="Lead",LEFT(Table1[[#This Row],[Customer SL Material ⓘ]],4)="Lead"),"Lead",IF(LEFT(Table1[[#This Row],[Current Public Side SL Material ⓘ]],1)="U",(IF(LEFT(Table1[[#This Row],[Customer SL Material ⓘ]],1)="G","GSLRR","Unknown")),(IF(LEFT(Table1[[#This Row],[Customer SL Material ⓘ]],1)="G",(IF(Table1[[#This Row],[Was Public SL Material Ever Previously Lead?]]="No","Non-Lead","GSLRR")),IF(LEFT(Table1[[#This Row],[Customer SL Material ⓘ]],1)="U","Unknown","Non-Lead"))))))
B470: belmont | C470: 14813 | Q470: =IF(OR(Table1[[#This Row],[Current Public Side SL Material ⓘ]]="",Table1[[#This Row],[Was Public SL Material Ever Previously Lead?]]="",Table1[[#This Row],[Customer SL Material ⓘ]]=""),"",IF(OR(LEFT(Table1[[#This Row],[Current Public Side SL Material ⓘ]],4)="Lead",LEFT(Table1[[#This Row],[Customer SL Material ⓘ]],4)="Lead"),"Lead",IF(LEFT(Table1[[#This Row],[Current Public Side SL Material ⓘ]],1)="U",(IF(LEFT(Table1[[#This Row],[Customer SL Material ⓘ]],1)="G","GSLRR","Unknown")),(IF(LEFT(Table1[[#This Row],[Customer SL Material ⓘ]],1)="G",(IF(Table1[[#This Row],[Was Public SL Material Ever Previously Lead?]]="No","Non-Lead","GSLRR")),IF(LEFT(Table1[[#This Row],[Customer SL Material ⓘ]],1)="U","Unknown","Non-Lead"))))))
B471: belmont | C471: 14813 | Q471: =IF(OR(Table1[[#This Row],[Current Public Side SL Material ⓘ]]="",Table1[[#This Row],[Was Public SL Material Ever Previously Lead?]]="",Table1[[#This Row],[Customer SL Material ⓘ]]=""),"",IF(OR(LEFT(Table1[[#This Row],[Current Public Side SL Material ⓘ]],4)="Lead",LEFT(Table1[[#This Row],[Customer SL Material ⓘ]],4)="Lead"),"Lead",IF(LEFT(Table1[[#This Row],[Current Public Side SL Material ⓘ]],1)="U",(IF(LEFT(Table1[[#This Row],[Customer SL Material ⓘ]],1)="G","GSLRR","Unknown")),(IF(LEFT(Table1[[#This Row],[Customer SL Material ⓘ]],1)="G",(IF(Table1[[#This Row],[Was Public SL Material Ever Previously Lead?]]="No","Non-Lead","GSLRR")),IF(LEFT(Table1[[#This Row],[Customer SL Material ⓘ]],1)="U","Unknown","Non-Lead"))))))
B472: belmont | C472: 14813 | Q472: =IF(OR(Table1[[#This Row],[Current Public Side SL Material ⓘ]]="",Table1[[#This Row],[Was Public SL Material Ever Previously Lead?]]="",Table1[[#This Row],[Customer SL Material ⓘ]]=""),"",IF(OR(LEFT(Table1[[#This Row],[Current Public Side SL Material ⓘ]],4)="Lead",LEFT(Table1[[#This Row],[Customer SL Material ⓘ]],4)="Lead"),"Lead",IF(LEFT(Table1[[#This Row],[Current Public Side SL Material ⓘ]],1)="U",(IF(LEFT(Table1[[#This Row],[Customer SL Material ⓘ]],1)="G","GSLRR","Unknown")),(IF(LEFT(Table1[[#This Row],[Customer SL Material ⓘ]],1)="G",(IF(Table1[[#This Row],[Was Public SL Material Ever Previously Lead?]]="No","Non-Lead","GSLRR")),IF(LEFT(Table1[[#This Row],[Customer SL Material ⓘ]],1)="U","Unknown","Non-Lead"))))))
B473: belmont | C473: 14813 | Q473: =IF(OR(Table1[[#This Row],[Current Public Side SL Material ⓘ]]="",Table1[[#This Row],[Was Public SL Material Ever Previously Lead?]]="",Table1[[#This Row],[Customer SL Material ⓘ]]=""),"",IF(OR(LEFT(Table1[[#This Row],[Current Public Side SL Material ⓘ]],4)="Lead",LEFT(Table1[[#This Row],[Customer SL Material ⓘ]],4)="Lead"),"Lead",IF(LEFT(Table1[[#This Row],[Current Public Side SL Material ⓘ]],1)="U",(IF(LEFT(Table1[[#This Row],[Customer SL Material ⓘ]],1)="G","GSLRR","Unknown")),(IF(LEFT(Table1[[#This Row],[Customer SL Material ⓘ]],1)="G",(IF(Table1[[#This Row],[Was Public SL Material Ever Previously Lead?]]="No","Non-Lead","GSLRR")),IF(LEFT(Table1[[#This Row],[Customer SL Material ⓘ]],1)="U","Unknown","Non-Lead"))))))
B474: belmont | C474: 14813 | Q474: =IF(OR(Table1[[#This Row],[Current Public Side SL Material ⓘ]]="",Table1[[#This Row],[Was Public SL Material Ever Previously Lead?]]="",Table1[[#This Row],[Customer SL Material ⓘ]]=""),"",IF(OR(LEFT(Table1[[#This Row],[Current Public Side SL Material ⓘ]],4)="Lead",LEFT(Table1[[#This Row],[Customer SL Material ⓘ]],4)="Lead"),"Lead",IF(LEFT(Table1[[#This Row],[Current Public Side SL Material ⓘ]],1)="U",(IF(LEFT(Table1[[#This Row],[Customer SL Material ⓘ]],1)="G","GSLRR","Unknown")),(IF(LEFT(Table1[[#This Row],[Customer SL Material ⓘ]],1)="G",(IF(Table1[[#This Row],[Was Public SL Material Ever Previously Lead?]]="No","Non-Lead","GSLRR")),IF(LEFT(Table1[[#This Row],[Customer SL Material ⓘ]],1)="U","Unknown","Non-Lead"))))))
B475: belmont | C475: 14813 | Q475: =IF(OR(Table1[[#This Row],[Current Public Side SL Material ⓘ]]="",Table1[[#This Row],[Was Public SL Material Ever Previously Lead?]]="",Table1[[#This Row],[Customer SL Material ⓘ]]=""),"",IF(OR(LEFT(Table1[[#This Row],[Current Public Side SL Material ⓘ]],4)="Lead",LEFT(Table1[[#This Row],[Customer SL Material ⓘ]],4)="Lead"),"Lead",IF(LEFT(Table1[[#This Row],[Current Public Side SL Material ⓘ]],1)="U",(IF(LEFT(Table1[[#This Row],[Customer SL Material ⓘ]],1)="G","GSLRR","Unknown")),(IF(LEFT(Table1[[#This Row],[Customer SL Material ⓘ]],1)="G",(IF(Table1[[#This Row],[Was Public SL Material Ever Previously Lead?]]="No","Non-Lead","GSLRR")),IF(LEFT(Table1[[#This Row],[Customer SL Material ⓘ]],1)="U","Unknown","Non-Lead"))))))
B476: belmont | C476: 14813 | Q476: =IF(OR(Table1[[#This Row],[Current Public Side SL Material ⓘ]]="",Table1[[#This Row],[Was Public SL Material Ever Previously Lead?]]="",Table1[[#This Row],[Customer SL Material ⓘ]]=""),"",IF(OR(LEFT(Table1[[#This Row],[Current Public Side SL Material ⓘ]],4)="Lead",LEFT(Table1[[#This Row],[Customer SL Material ⓘ]],4)="Lead"),"Lead",IF(LEFT(Table1[[#This Row],[Current Public Side SL Material ⓘ]],1)="U",(IF(LEFT(Table1[[#This Row],[Customer SL Material ⓘ]],1)="G","GSLRR","Unknown")),(IF(LEFT(Table1[[#This Row],[Customer SL Material ⓘ]],1)="G",(IF(Table1[[#This Row],[Was Public SL Material Ever Previously Lead?]]="No","Non-Lead","GSLRR")),IF(LEFT(Table1[[#This Row],[Customer SL Material ⓘ]],1)="U","Unknown","Non-Lead"))))))
B477: belmont | C477: 14813 | Q477: =IF(OR(Table1[[#This Row],[Current Public Side SL Material ⓘ]]="",Table1[[#This Row],[Was Public SL Material Ever Previously Lead?]]="",Table1[[#This Row],[Customer SL Material ⓘ]]=""),"",IF(OR(LEFT(Table1[[#This Row],[Current Public Side SL Material ⓘ]],4)="Lead",LEFT(Table1[[#This Row],[Customer SL Material ⓘ]],4)="Lead"),"Lead",IF(LEFT(Table1[[#This Row],[Current Public Side SL Material ⓘ]],1)="U",(IF(LEFT(Table1[[#This Row],[Customer SL Material ⓘ]],1)="G","GSLRR","Unknown")),(IF(LEFT(Table1[[#This Row],[Customer SL Material ⓘ]],1)="G",(IF(Table1[[#This Row],[Was Public SL Material Ever Previously Lead?]]="No","Non-Lead","GSLRR")),IF(LEFT(Table1[[#This Row],[Customer SL Material ⓘ]],1)="U","Unknown","Non-Lead"))))))
B478: belmont | C478: 14813 | Q478: =IF(OR(Table1[[#This Row],[Current Public Side SL Material ⓘ]]="",Table1[[#This Row],[Was Public SL Material Ever Previously Lead?]]="",Table1[[#This Row],[Customer SL Material ⓘ]]=""),"",IF(OR(LEFT(Table1[[#This Row],[Current Public Side SL Material ⓘ]],4)="Lead",LEFT(Table1[[#This Row],[Customer SL Material ⓘ]],4)="Lead"),"Lead",IF(LEFT(Table1[[#This Row],[Current Public Side SL Material ⓘ]],1)="U",(IF(LEFT(Table1[[#This Row],[Customer SL Material ⓘ]],1)="G","GSLRR","Unknown")),(IF(LEFT(Table1[[#This Row],[Customer SL Material ⓘ]],1)="G",(IF(Table1[[#This Row],[Was Public SL Material Ever Previously Lead?]]="No","Non-Lead","GSLRR")),IF(LEFT(Table1[[#This Row],[Customer SL Material ⓘ]],1)="U","Unknown","Non-Lead"))))))
B479: belmont | C479: 14813 | Q479: =IF(OR(Table1[[#This Row],[Current Public Side SL Material ⓘ]]="",Table1[[#This Row],[Was Public SL Material Ever Previously Lead?]]="",Table1[[#This Row],[Customer SL Material ⓘ]]=""),"",IF(OR(LEFT(Table1[[#This Row],[Current Public Side SL Material ⓘ]],4)="Lead",LEFT(Table1[[#This Row],[Customer SL Material ⓘ]],4)="Lead"),"Lead",IF(LEFT(Table1[[#This Row],[Current Public Side SL Material ⓘ]],1)="U",(IF(LEFT(Table1[[#This Row],[Customer SL Material ⓘ]],1)="G","GSLRR","Unknown")),(IF(LEFT(Table1[[#This Row],[Customer SL Material ⓘ]],1)="G",(IF(Table1[[#This Row],[Was Public SL Material Ever Previously Lead?]]="No","Non-Lead","GSLRR")),IF(LEFT(Table1[[#This Row],[Customer SL Material ⓘ]],1)="U","Unknown","Non-Lead"))))))
... B485: belmont | C485: 14813 | Q485: =IF(OR(Table1[[#This Row],[Current Public Side SL Material ⓘ]]="",Table1[[#This Row],[Was Public SL Material Ever Previously Lead?]]="",Table1[[#This Row],[Customer SL Material ⓘ]]=""),"",IF(OR(LEFT(Table1[[#This Row],[Current Public Side SL Material ⓘ]],4)="Lead",LEFT(Table1[[#This Row],[Customer SL Material ⓘ]],4)="Lead"),"Lead",IF(LEFT(Table1[[#This Row],[Current Public Side SL Material ⓘ]],1)="U",(IF(LEFT(Table1[[#This Row],[Customer SL Material ⓘ]],1)="G","GSLRR","Unknown")),(IF(LEFT(Table1[[#This Row],[Customer SL Material ⓘ]],1)="G",(IF(Table1[[#This Row],[Was Public SL Material Ever Previously Lead?]]="No","Non-Lead","GSLRR")),IF(LEFT(Table1[[#This Row],[Customer SL Material ⓘ]],1)="U","Unknown","Non-Lead"))))))
B486: belmont | Q486: =IF(OR(Table1[[#This Row],[Current Public Side SL Material ⓘ]]="",Table1[[#This Row],[Was Public SL Material Ever Previously Lead?]]="",Table1[[#This Row],[Customer SL Material ⓘ]]=""),"",IF(OR(LEFT(Table1[[#This Row],[Current Public Side SL Material ⓘ]],4)="Lead",LEFT(Table1[[#This Row],[Customer SL Material ⓘ]],4)="Lead"),"Lead",IF(LEFT(Table1[[#This Row],[Current Public Side SL Material ⓘ]],1)="U",(IF(LEFT(Table1[[#This Row],[Customer SL Material ⓘ]],1)="G","GSLRR","Unknown")),(IF(LEFT(Table1[[#This Row],[Customer SL Material ⓘ]],1)="G",(IF(Table1[[#This Row],[Was Public SL Material Ever Previously Lead?]]="No","Non-Lead","GSLRR")),IF(LEFT(Table1[[#This Row],[Customer SL Material ⓘ]],1)="U","Unknown","Non-Lead"))))))
B487: belmont | Q487: =IF(OR(Table1[[#This Row],[Current Public Side SL Material ⓘ]]="",Table1[[#This Row],[Was Public SL Material Ever Previously Lead?]]="",Table1[[#This Row],[Customer SL Material ⓘ]]=""),"",IF(OR(LEFT(Table1[[#This Row],[Current Public Side SL Material ⓘ]],4)="Lead",LEFT(Table1[[#This Row],[Customer SL Material ⓘ]],4)="Lead"),"Lead",IF(LEFT(Table1[[#This Row],[Current Public Side SL Material ⓘ]],1)="U",(IF(LEFT(Table1[[#This Row],[Customer SL Material ⓘ]],1)="G","GSLRR","Unknown")),(IF(LEFT(Table1[[#This Row],[Customer SL Material ⓘ]],1)="G",(IF(Table1[[#This Row],[Was Public SL Material Ever Previously Lead?]]="No","Non-Lead","GSLRR")),IF(LEFT(Table1[[#This Row],[Customer SL Material ⓘ]],1)="U","Unknown","Non-Lead"))))))
B488: belmont | Q488: =IF(OR(Table1[[#This Row],[Current Public Side SL Material ⓘ]]="",Table1[[#This Row],[Was Public SL Material Ever Previously Lead?]]="",Table1[[#This Row],[Customer SL Material ⓘ]]=""),"",IF(OR(LEFT(Table1[[#This Row],[Current Public Side SL Material ⓘ]],4)="Lead",LEFT(Table1[[#This Row],[Customer SL Material ⓘ]],4)="Lead"),"Lead",IF(LEFT(Table1[[#This Row],[Current Public Side SL Material ⓘ]],1)="U",(IF(LEFT(Table1[[#This Row],[Customer SL Material ⓘ]],1)="G","GSLRR","Unknown")),(IF(LEFT(Table1[[#This Row],[Customer SL Material ⓘ]],1)="G",(IF(Table1[[#This Row],[Was Public SL Material Ever Previously Lead?]]="No","Non-Lead","GSLRR")),IF(LEFT(Table1[[#This Row],[Customer SL Material ⓘ]],1)="U","Unknown","Non-Lead"))))))
B489: belmont | Q489: =IF(OR(Table1[[#This Row],[Current Public Side SL Material ⓘ]]="",Table1[[#This Row],[Was Public SL Material Ever Previously Lead?]]="",Table1[[#This Row],[Customer SL Material ⓘ]]=""),"",IF(OR(LEFT(Table1[[#This Row],[Current Public Side SL Material ⓘ]],4)="Lead",LEFT(Table1[[#This Row],[Customer SL Material ⓘ]],4)="Lead"),"Lead",IF(LEFT(Table1[[#This Row],[Current Public Side SL Material ⓘ]],1)="U",(IF(LEFT(Table1[[#This Row],[Customer SL Material ⓘ]],1)="G","GSLRR","Unknown")),(IF(LEFT(Table1[[#This Row],[Customer SL Material ⓘ]],1)="G",(IF(Table1[[#This Row],[Was Public SL Material Ever Previously Lead?]]="No","Non-Lead","GSLRR")),IF(LEFT(Table1[[#This Row],[Customer SL Material ⓘ]],1)="U","Unknown","Non-Lead"))))))
B490: belmont | Q490: =IF(OR(Table1[[#This Row],[Current Public Side SL Material ⓘ]]="",Table1[[#This Row],[Was Public SL Material Ever Previously Lead?]]="",Table1[[#This Row],[Customer SL Material ⓘ]]=""),"",IF(OR(LEFT(Table1[[#This Row],[Current Public Side SL Material ⓘ]],4)="Lead",LEFT(Table1[[#This Row],[Customer SL Material ⓘ]],4)="Lead"),"Lead",IF(LEFT(Table1[[#This Row],[Current Public Side SL Material ⓘ]],1)="U",(IF(LEFT(Table1[[#This Row],[Customer SL Material ⓘ]],1)="G","GSLRR","Unknown")),(IF(LEFT(Table1[[#This Row],[Customer SL Material ⓘ]],1)="G",(IF(Table1[[#This Row],[Was Public SL Material Ever Previously Lead?]]="No","Non-Lead","GSLRR")),IF(LEFT(Table1[[#This Row],[Customer SL Material ⓘ]],1)="U","Unknown","Non-Lead"))))))
B491: belmont | Q491: =IF(OR(Table1[[#This Row],[Current Public Side SL Material ⓘ]]="",Table1[[#This Row],[Was Public SL Material Ever Previously Lead?]]="",Table1[[#This Row],[Customer SL Material ⓘ]]=""),"",IF(OR(LEFT(Table1[[#This Row],[Current Public Side SL Material ⓘ]],4)="Lead",LEFT(Table1[[#This Row],[Customer SL Material ⓘ]],4)="Lead"),"Lead",IF(LEFT(Table1[[#This Row],[Current Public Side SL Material ⓘ]],1)="U",(IF(LEFT(Table1[[#This Row],[Customer SL Material ⓘ]],1)="G","GSLRR","Unknown")),(IF(LEFT(Table1[[#This Row],[Customer SL Material ⓘ]],1)="G",(IF(Table1[[#This Row],[Was Public SL Material Ever Previously Lead?]]="No","Non-Lead","GSLRR")),IF(LEFT(Table1[[#This Row],[Customer SL Material ⓘ]],1)="U","Unknown","Non-Lead"))))))
Q492: =IF(OR(Table1[[#This Row],[Current Public Side SL Material ⓘ]]="",Table1[[#This Row],[Was Public SL Material Ever Previously Lead?]]="",Table1[[#This Row],[Customer SL Material ⓘ]]=""),"",IF(OR(LEFT(Table1[[#This Row],[Current Public Side SL Material ⓘ]],4)="Lead",LEFT(Table1[[#This Row],[Customer SL Material ⓘ]],4)="Lead"),"Lead",IF(LEFT(Table1[[#This Row],[Current Public Side SL Material ⓘ]],1)="U",(IF(LEFT(Table1[[#This Row],[Customer SL Material ⓘ]],1)="G","GSLRR","Unknown")),(IF(LEFT(Table1[[#This Row],[Customer SL Material ⓘ]],1)="G",(IF(Table1[[#This Row],[Was Public SL Material Ever Previously Lead?]]="No","Non-Lead","GSLRR")),IF(LEFT(Table1[[#This Row],[Customer SL Material ⓘ]],1)="U","Unknown","Non-Lead"))))))
Q493: =IF(OR(Table1[[#This Row],[Current Public Side SL Material ⓘ]]="",Table1[[#This Row],[Was Public SL Material Ever Previously Lead?]]="",Table1[[#This Row],[Customer SL Material ⓘ]]=""),"",IF(OR(LEFT(Table1[[#This Row],[Current Public Side SL Material ⓘ]],4)="Lead",LEFT(Table1[[#This Row],[Customer SL Material ⓘ]],4)="Lead"),"Lead",IF(LEFT(Table1[[#This Row],[Current Public Side SL Material ⓘ]],1)="U",(IF(LEFT(Table1[[#This Row],[Customer SL Material ⓘ]],1)="G","GSLRR","Unknown")),(IF(LEFT(Table1[[#This Row],[Customer SL Material ⓘ]],1)="G",(IF(Table1[[#This Row],[Was Public SL Material Ever Previously Lead?]]="No","Non-Lead","GSLRR")),IF(LEFT(Table1[[#This Row],[Customer SL Material ⓘ]],1)="U","Unknown","Non-Lead"))))))
Q494: =IF(OR(Table1[[#This Row],[Current Public Side SL Material ⓘ]]="",Table1[[#This Row],[Was Public SL Material Ever Previously Lead?]]="",Table1[[#This Row],[Customer SL Material ⓘ]]=""),"",IF(OR(LEFT(Table1[[#This Row],[Current Public Side SL Material ⓘ]],4)="Lead",LEFT(Table1[[#This Row],[Customer SL Material ⓘ]],4)="Lead"),"Lead",IF(LEFT(Table1[[#This Row],[Current Public Side SL Material ⓘ]],1)="U",(IF(LEFT(Table1[[#This Row],[Customer SL Material ⓘ]],1)="G","GSLRR","Unknown")),(IF(LEFT(Table1[[#This Row],[Customer SL Material ⓘ]],1)="G",(IF(Table1[[#This Row],[Was Public SL Material Ever Previously Lead?]]="No","Non-Lead","GSLRR")),IF(LEFT(Table1[[#This Row],[Customer SL Material ⓘ]],1)="U","Unknown","Non-Lead"))))))
Q495: =IF(OR(Table1[[#This Row],[Current Public Side SL Material ⓘ]]="",Table1[[#This Row],[Was Public SL Material Ever Previously Lead?]]="",Table1[[#This Row],[Customer SL Material ⓘ]]=""),"",IF(OR(LEFT(Table1[[#This Row],[Current Public Side SL Material ⓘ]],4)="Lead",LEFT(Table1[[#This Row],[Customer SL Material ⓘ]],4)="Lead"),"Lead",IF(LEFT(Table1[[#This Row],[Current Public Side SL Material ⓘ]],1)="U",(IF(LEFT(Table1[[#This Row],[Customer SL Material ⓘ]],1)="G","GSLRR","Unknown")),(IF(LEFT(Table1[[#This Row],[Customer SL Material ⓘ]],1)="G",(IF(Table1[[#This Row],[Was Public SL Material Ever Previously Lead?]]="No","Non-Lead","GSLRR")),IF(LEFT(Table1[[#This Row],[Customer SL Material ⓘ]],1)="U","Unknown","Non-Lead"))))))
Q496: =IF(OR(Table1[[#This Row],[Current Public Side SL Material ⓘ]]="",Table1[[#This Row],[Was Public SL Material Ever Previously Lead?]]="",Table1[[#This Row],[Customer SL Material ⓘ]]=""),"",IF(OR(LEFT(Table1[[#This Row],[Current Public Side SL Material ⓘ]],4)="Lead",LEFT(Table1[[#This Row],[Customer SL Material ⓘ]],4)="Lead"),"Lead",IF(LEFT(Table1[[#This Row],[Current Public Side SL Material ⓘ]],1)="U",(IF(LEFT(Table1[[#This Row],[Customer SL Material ⓘ]],1)="G","GSLRR","Unknown")),(IF(LEFT(Table1[[#This Row],[Customer SL Material ⓘ]],1)="G",(IF(Table1[[#This Row],[Was Public SL Material Ever Previously Lead?]]="No","Non-Lead","GSLRR")),IF(LEFT(Table1[[#This Row],[Customer SL Material ⓘ]],1)="U","Unknown","Non-Lead"))))))
Q497: =IF(OR(Table1[[#This Row],[Current Public Side SL Material ⓘ]]="",Table1[[#This Row],[Was Public SL Material Ever Previously Lead?]]="",Table1[[#This Row],[Customer SL Material ⓘ]]=""),"",IF(OR(LEFT(Table1[[#This Row],[Current Public Side SL Material ⓘ]],4)="Lead",LEFT(Table1[[#This Row],[Customer SL Material ⓘ]],4)="Lead"),"Lead",IF(LEFT(Table1[[#This Row],[Current Public Side SL Material ⓘ]],1)="U",(IF(LEFT(Table1[[#This Row],[Customer SL Material ⓘ]],1)="G","GSLRR","Unknown")),(IF(LEFT(Table1[[#This Row],[Customer SL Material ⓘ]],1)="G",(IF(Table1[[#This Row],[Was Public SL Material Ever Previously Lead?]]="No","Non-Lead","GSLRR")),IF(LEFT(Table1[[#This Row],[Customer SL Material ⓘ]],1)="U","Unknown","Non-Lead"))))))
Q498: =IF(OR(Table1[[#This Row],[Current Public Side SL Material ⓘ]]="",Table1[[#This Row],[Was Public SL Material Ever Previously Lead?]]="",Table1[[#This Row],[Customer SL Material ⓘ]]=""),"",IF(OR(LEFT(Table1[[#This Row],[Current Public Side SL Material ⓘ]],4)="Lead",LEFT(Table1[[#This Row],[Customer SL Material ⓘ]],4)="Lead"),"Lead",IF(LEFT(Table1[[#This Row],[Current Public Side SL Material ⓘ]],1)="U",(IF(LEFT(Table1[[#This Row],[Customer SL Material ⓘ]],1)="G","GSLRR","Unknown")),(IF(LEFT(Table1[[#This Row],[Customer SL Material ⓘ]],1)="G",(IF(Table1[[#This Row],[Was Public SL Material Ever Previously Lead?]]="No","Non-Lead","GSLRR")),IF(LEFT(Table1[[#This Row],[Customer SL Material ⓘ]],1)="U","Unknown","Non-Lead"))))))
...

Sheet Inventory Summary
A1: Summary of Lead Service Line Inventory
A2: I. System Information
A3: Water System Name
A4: PWS ID Number
A6: II. Contact Information for Owner / Licensed Operator of Record Completing the Form
A7: Contact Name
A8: Contact Phone Number
A9: Contact Email Address
A11: III. Summary of Inventory
A12: Total Number of Service Lines in the Distribution System | G12: =G13+G17 -> 466
A13: Total Number of Identified Service Lines | G13: =SUM(G14:I16) -> 275
A14: Total Number of Lead Service Lines | G14: =COUNTIF('Service Line Inventory Template'!$Q$2:$Q$5001,"Lead") -> 0
A15: Total Number of GSLRR | G15: =COUNTIF('Service Line Inventory Template'!$Q$2:$Q$5001,"GSLRR") -> 6
A16: Total Number of Non-LSL | G16: =COUNTIF('Service Line Inventory Template'!$Q$2:$Q$5001,"Non-Lead") -> 269
A17: Total Number of Unknown Service Lines | G17: =COUNTIF('Service Line Inventory Template'!$Q$2:$Q$5001,"Unknown") -> 191
A19: Service Lines | C19: Lead | D19: GSL or GSLRR | F19: Non-Lead | H19: Unknown
A20: PWS - Side Service Lines | C20: =COUNTIF(Table1[Current Public Side SL Material ⓘ],"Lead*") -> 0 | D20: =COUNTIF(Table1[Current Public Side SL Material ⓘ],"Galvanized*") -> 16 | E20: GSL | F20: =COUNTIF(Table1[Current Public Side SL Material ⓘ],"C*")+COUNTIF(Table1[Current Public Side SL Material ⓘ],"P*")+COUNTIF(Table1[Current Public Side SL Material ⓘ],"K*") -> 264 | H20: =COUNTIF(Table1[Current Public Side SL Material ⓘ],"U*") -> 186
A21: Customer - Side Service Lines | C21: =COUNTIF(Table1[Customer SL Material ⓘ],"Lead*") -> 0 | D21: =COUNTIF(Table1[Customer SL Material ⓘ],"Galvanized*") -> 6 | E21: GSL | F21: =COUNTIF(Table1[Customer SL Material ⓘ],"C*")+COUNTIF(Table1[Customer SL Material ⓘ],"P*")+COUNTIF(Table1[Customer SL Material ⓘ],"K*") -> 269 | H21: =COUNTIF(Table1[Customer SL Material ⓘ],"U*") -> 191
A22: Total Number of Service Lines in the Distribution System | C22: =COUNTIF(Table1[SL Category ⓘ],"Lead") -> 0 | D22: =COUNTIF(Table1[SL Category ⓘ],"GSLRR") -> 6 | E22: GSLRR | F22: =COUNTIF(Table1[SL Category ⓘ],"Non-Lead") -> 269 | H22: =COUNTIF(Table1[SL Category ⓘ],"Unknown") -> 191
A24: Service Line Identification Methods
A25: Identification Methods | E25: PWS- Side SLs | G25: Customer-Side SLs
A26: Historical Records | E26: =COUNTIF('Service Line Inventory Template'!G2:G5001,"Records") -> 279 | G26: =COUNTIF('Service Line Inventory Template'!K2:K5001,"Records") -> 279
A27: Field Inspection | E27: =COUNTIF('Service Line Inventory Template'!G2:G5001,"Field Inspection") -> 0 | G27: =COUNTIF('Service Line Inventory Template'!K2:K5001,A27) -> 0
A28: Customer Identification with Photo or other Verification | E28: NA | G28: =COUNTIF('Service Line Inventory Template'!K2:K5001,A28) -> 0
A29: Excavation | E29: =COUNTIF('Service Line Inventory Template'!$G$2:$G$5001,A29) -> 0 | G29: =COUNTIF('Service Line Inventory Template'!K2:K5001,A29) -> 0
A30: Sequential Sampling | E30: =COUNTIF('Service Line Inventory Template'!$G$2:$G$5001,A30) -> 0 | G30: =COUNTIF('Service Line Inventory Template'!K2:K5001,A30) -> 0
A31: Statistical Analysis/Predictive Model | E31: =COUNTIF('Service Line Inventory Template'!$G$2:$G$5001,A31) -> 0 | G31: =COUNTIF('Service Line Inventory Template'!K2:K5001,A31) -> 0
A33: IV. Inventory Availability - The inventory must be available to public
A34: If 50,000 customers or greater: Posting the inventory online water system's website. | E34: Address:
A35: If under 50,000 customers: Explain how to access the inventory
A37: V. Certifications
A38: By submitting this form, I have verified and certify the information listed in this form is true and accurate to the best of my knowledge and belief.
A42: _____________________________________ | D42: _____________________________________ | I42: _______
B43: Name | F43: Title | I43: Date
